BEGIN:VCALENDAR
VERSION:2.0
PRODID:-//ChamberMaster//Event Calendar 2.0//EN
METHOD:PUBLISH
X-PUBLISHED-TTL:P3D
REFRESH-INTERVAL:P3D
CALSCALE:GREGORIAN
BEGIN:VEVENT
DTSTART:20180716T130000Z
DTEND:20180716T190000Z
X-MICROSOFT-CDO-ALLDAYEVENT:FALSE
SUMMARY:Young Entrepreneurs Academy for Women 7/16-8/9/18
DESCRIPTION:Oak Knoll School's Young Entrepreneurs Academy for Women is a groundbreaking and exciting entrepreneurship program that transforms middle and high school students into real\, confident entrepreneurs. Through the program\, students in grades 7-12 will generate business ideas\, conduct market research\, write business plans\, pitch a panel of investors\, get real funding and launch their own REAL companies. From students to CEOs. The Big Idea\, The Pitch and The Launch - it's all in Oak Knoll School's Young Entrepreneurs Academy for Women. Meet legendary entrepreneurs\, secure real launch funding\, win prize packages and start a new business   starting this summer!
X-ALT-DESC;FMTTYPE=text/html:Oak Knoll School&#39\;s Young Entrepreneurs Academy for Women is a groundbreaking and exciting entrepreneurship program that transforms middle and high school students into real\, confident entrepreneurs. Through the program\, students in grades 7-12 will generate business ideas\, conduct market research\, write business plans\, pitch a panel of investors\, get real funding and launch their own REAL companies. From students to CEOs. The Big Idea\, The Pitch and The Launch - it&#39\;s all in Oak Knoll School&#39\;s Young Entrepreneurs Academy for Women. Meet legendary entrepreneurs\, secure real launch funding\, win prize packages and start a new business &ndash\; starting this summer!
LOCATION:Oak Knoll School of the Holy Child\, 44 Blackburn Road\, Summit\, NJ 07901
UID:e.870.12907
SEQUENCE:3
DTSTAMP:20260421T071920Z
URL:https://business.suburbanchambers.org/events/details/young-entrepreneurs-academy-for-women-7-16-8-9-18-12907
END:VEVENT

END:VCALENDAR
