BEGIN:VCALENDAR
VERSION:2.0
PRODID:-//ChamberMaster//Event Calendar 2.0//EN
METHOD:PUBLISH
X-PUBLISHED-TTL:P3D
REFRESH-INTERVAL:P3D
CALSCALE:GREGORIAN
BEGIN:VEVENT
DTSTART:20190331T180000Z
DTEND:20190331T200000Z
X-MICROSOFT-CDO-ALLDAYEVENT:FALSE
SUMMARY:You Would Have Known Them: Township Residents of the Past
DESCRIPTION:The Chatham Township Historical Society has a gallery of photos at the Chatham Township Municipal Building. Patricia Wells\, Vice President of the Chatham Township Historical Society will give a presentation about the photos in the gallery. Pat will talk about some of the people who would have been your neighbors in centuries past.
X-ALT-DESC;FMTTYPE=text/html:The Chatham Township Historical Society has a gallery of photos at the Chatham Township Municipal Building. Patricia Wells\, Vice President of the Chatham Township Historical Society will give a presentation about the photos in the gallery. Pat will talk about some of the people who would have been your neighbors in centuries past.
LOCATION:Chatham Township Municipal Building 58 Meyersville Road Chatham Township\, NJ
UID:e.870.15308
SEQUENCE:3
DTSTAMP:20260420T043201Z
URL:https://business.suburbanchambers.org/events/details/you-would-have-known-them-township-residents-of-the-past-15308
END:VEVENT

END:VCALENDAR
