BEGIN:VCALENDAR
VERSION:2.0
PRODID:-//ChamberMaster//Event Calendar 2.0//EN
METHOD:PUBLISH
X-PUBLISHED-TTL:P3D
REFRESH-INTERVAL:P3D
CALSCALE:GREGORIAN
BEGIN:VEVENT
DTSTART:20190325T160000Z
DTEND:20190325T190000Z
X-MICROSOFT-CDO-ALLDAYEVENT:FALSE
SUMMARY:YMCA Pickleball
DESCRIPTION:Pickle ball is a racquet sport that combines elements of badminton\, tennis\, and table tennis. A paddle sport created for all ages and skill levels! The rules are simple and the game is easy to learn. Come and play with YMCA friends! Beginner\, Intermediate & Advanced classes. Please call for dates & Times
X-ALT-DESC;FMTTYPE=text/html:Pickle ball is a racquet sport that combines elements of badminton\, tennis\, and table tennis. A paddle sport created for all ages and skill levels! The rules are simple and the game is easy to learn. Come and play with YMCA friends! Beginner\, Intermediate &amp\; Advanced classes. Please call for dates &amp\; Times
LOCATION:Summit YMCA Gym 67 Maple Street Summit NJ 07901
UID:e.870.14898
SEQUENCE:3
DTSTAMP:20260420T041019Z
URL:https://business.suburbanchambers.org/events/details/ymca-pickleball-03-25-2019-14898
END:VEVENT

END:VCALENDAR
