BEGIN:VCALENDAR
VERSION:2.0
PRODID:-//ChamberMaster//Event Calendar 2.0//EN
METHOD:PUBLISH
X-PUBLISHED-TTL:P3D
REFRESH-INTERVAL:P3D
CALSCALE:GREGORIAN
BEGIN:VEVENT
DTSTART:20190215T170000Z
DTEND:20190215T200000Z
X-MICROSOFT-CDO-ALLDAYEVENT:FALSE
SUMMARY:YMCA Mah Jongg
DESCRIPTION:Join your Summit YMCA friends each Friday for an afternoon of MAH JONGG. Connect with others and engage your mind with this fun\, intelligent game that requires your concentration. Please brig your current mah Jongg card . experienced players
X-ALT-DESC;FMTTYPE=text/html:Join your Summit YMCA friends each Friday for an afternoon of MAH JONGG. Connect with others and engage your mind with this fun\, intelligent game that requires your concentration. Please brig your current mah Jongg card . experienced players
LOCATION:Summit YMCA 67 Maple Street Summit NJ
UID:e.870.14698
SEQUENCE:3
DTSTAMP:20260420T110523Z
URL:https://business.suburbanchambers.org/events/details/ymca-mah-jongg-02-15-2019-14698
END:VEVENT

END:VCALENDAR
