BEGIN:VCALENDAR
VERSION:2.0
PRODID:-//ChamberMaster//Event Calendar 2.0//EN
METHOD:PUBLISH
X-PUBLISHED-TTL:P3D
REFRESH-INTERVAL:P3D
CALSCALE:GREGORIAN
BEGIN:VEVENT
DTSTART:20190304T170000Z
DTEND:20190304T180000Z
X-MICROSOFT-CDO-ALLDAYEVENT:FALSE
SUMMARY:YMCA Book Group
DESCRIPTION:Join your YMCA friends to discuss the book of the month. Engage in fun and meaningful group discussions! Bring your suggestions for future books! "Soul of America" by John Meacham PRE-REGISTRATION REQUIRED WHEN: Monday\, March 4\, 2019 TIME: 12:00- 1:00 WHERE: SUMMIT YMCA COST: FREE
X-ALT-DESC;FMTTYPE=text/html:Join your YMCA friends to discuss the book of the month. Engage in fun and meaningful group discussions! Bring your suggestions for future books! &ldquo\;Soul of America&rdquo\; by John Meacham PRE-REGISTRATION REQUIRED WHEN: Monday\, March 4\, 2019 TIME: 12:00- 1:00 WHERE: SUMMIT YMCA COST: FREE
LOCATION:Summit YMCA 67 Maple Street Summit NJ 07901
UID:e.870.14864
SEQUENCE:3
DTSTAMP:20260420T034751Z
URL:https://business.suburbanchambers.org/events/details/ymca-book-group-03-04-2019-14864
END:VEVENT

END:VCALENDAR
