BEGIN:VCALENDAR
VERSION:2.0
PRODID:-//ChamberMaster//Event Calendar 2.0//EN
METHOD:PUBLISH
X-PUBLISHED-TTL:P3D
REFRESH-INTERVAL:P3D
CALSCALE:GREGORIAN
BEGIN:VEVENT
DTSTART:20180910T160000Z
DTEND:20180910T170000Z
X-MICROSOFT-CDO-ALLDAYEVENT:FALSE
SUMMARY:YMCA Book Discussion Group"Killers of the Flower Moon" by David Grann
DESCRIPTION:Book discussion group All area adults welcome Killers of The Flower Moon" the Osage Murders and the birth of the FBI by David Grann
X-ALT-DESC;FMTTYPE=text/html:Book discussion group All area adults welcome Killers of The Flower Moon&quot\; the Osage Murders and the birth of the FBI by David Grann
LOCATION:Summit Area YMCA 67 Maple Street Summit NJ 3rd floor
UID:e.870.14120
SEQUENCE:3
DTSTAMP:20260421T041813Z
URL:https://business.suburbanchambers.org/events/details/ymca-book-discussion-group-killers-of-the-flower-moon-by-david-grann-14120
END:VEVENT

END:VCALENDAR
