BEGIN:VCALENDAR
VERSION:2.0
PRODID:-//ChamberMaster//Event Calendar 2.0//EN
METHOD:PUBLISH
X-PUBLISHED-TTL:P3D
REFRESH-INTERVAL:P3D
CALSCALE:GREGORIAN
BEGIN:VEVENT
DTSTART:20181023T170000Z
DTEND:20181023T180000Z
X-MICROSOFT-CDO-ALLDAYEVENT:FALSE
SUMMARY:World Series: two teams One city!
DESCRIPTION:Join John Cronin & John Nolan in this fun\, fact-filled review of World Series through the years played against rival same-city teams. John Cronin is a baseball historian and writes for SABR\, Society for American Baseball Research. John Nolan is the official scorer of the Somerset Patriots\, a minor league team that plays in the Atlantic League of Professional Baseball.
X-ALT-DESC;FMTTYPE=text/html:Join John Cronin &amp\; John Nolan in this fun\, fact-filled review of World Series through the years played against rival same-city teams. John Cronin is a baseball historian and writes for SABR\, Society for American Baseball Research. John Nolan is the official scorer of the Somerset Patriots\, a minor league team that plays in the Atlantic League of Professional Baseball.
LOCATION:Summit YMCA 67 Maple Street Summit NJ
UID:e.870.14133
SEQUENCE:3
DTSTAMP:20260420T152109Z
URL:https://business.suburbanchambers.org/events/details/world-series-two-teams-one-city-14133
END:VEVENT

END:VCALENDAR
