BEGIN:VCALENDAR
VERSION:2.0
PRODID:-//ChamberMaster//Event Calendar 2.0//EN
METHOD:PUBLISH
X-PUBLISHED-TTL:P3D
REFRESH-INTERVAL:P3D
CALSCALE:GREGORIAN
BEGIN:VEVENT
DTSTART:20181024T140000Z
DTEND:20181024T160000Z
X-MICROSOFT-CDO-ALLDAYEVENT:FALSE
SUMMARY:Women's Life School Series: Balancing Better (for all women)
DESCRIPTION:You take care of everyone. Every moment is spoken for and overflowing. You feel out of balance\, as if your time is not your own. You're doing it all. But know it could be better. (And truth be told\, you're feeling a bit resentful) In this workshop you'll... Get very clear steps on how to make decisions that serve YOU (without the guilt) Learn how you can take control\, without shaking everything up Discover how Small Steps + Small Changes = A Big Difference Figure out how to find time for what you want Bring your to-do list\, daily schedule and list of things you "should" be doing as we help you craft your personal Yes-Steps. Bringing a friend for additional support is always welcome! Please click here to learn more about Deborah Munies. Additional session in this Series are Tuesday\, September 25 and Thursday\, November 1. Date/Time: Wednesday\, October 24\, 10:30am - 12:00pm. Location:  Reeves-Reed Arboretum\, 165 Hobart Ave.\, Summit\, NJ  Future Sessions: Thursday\, November 1. Instructor: Deborah Munies.
X-ALT-DESC;FMTTYPE=text/html:You take care of everyone. Every moment is spoken for and overflowing. You feel out of balance\, as if your time is not your own. You&#39\;re doing it all. But know it could be better. (And truth be told\, you&#39\;re feeling a bit resentful) In this workshop you&#39\;ll... Get very clear steps on how to make decisions that serve YOU (without the guilt) Learn how you can take control\, without shaking everything up Discover how Small Steps + Small Changes = A Big Difference Figure out how to find time for what you want Bring your to-do list\, daily schedule and list of things you &quot\;should&quot\; be doing as we help you craft your personal Yes-Steps. Bringing a friend for additional support is always welcome! Please click here to learn more about Deborah Munies. Additional session in this Series are Tuesday\, September 25 and Thursday\, November 1. Date/Time:&nbsp\;Wednesday\, October 24\, 10:30am - 12:00pm. Location:&nbsp\; Reeves-Reed Arboretum\, 165 Hobart Ave.\, Summit\, NJ&nbsp\; Future Sessions: Thursday\, November 1. Instructor: Deborah Munies.&nbsp\;
LOCATION:Reeves-Reed Arboretum 165 Hobart Ave. Summit\, NJ 07901
UID:e.870.14525
SEQUENCE:3
DTSTAMP:20260420T221539Z
URL:https://business.suburbanchambers.org/events/details/women-s-life-school-series-balancing-better-for-all-women-14525
END:VEVENT

END:VCALENDAR
