BEGIN:VCALENDAR
VERSION:2.0
PRODID:-//ChamberMaster//Event Calendar 2.0//EN
METHOD:PUBLISH
X-PUBLISHED-TTL:P3D
REFRESH-INTERVAL:P3D
CALSCALE:GREGORIAN
BEGIN:VEVENT
DTSTART:20190124T170000Z
DTEND:20190124T180000Z
X-MICROSOFT-CDO-ALLDAYEVENT:FALSE
SUMMARY:Winter Tennis YMCA
DESCRIPTION:This is a low impact fun filled Class. You will increase strength\, stability\, flexibility and hand eye coordination. Tennis in the gym
X-ALT-DESC;FMTTYPE=text/html:This is a low impact fun filled Class. You will increase strength\, stability\, flexibility and hand eye coordination. Tennis in the gym
LOCATION:Summit YMCA 67 Maple Street Summit
UID:e.870.14688
SEQUENCE:3
DTSTAMP:20260420T144239Z
URL:https://business.suburbanchambers.org/events/details/winter-tennis-ymca-01-24-2019-14688
END:VEVENT

END:VCALENDAR
