BEGIN:VCALENDAR
VERSION:2.0
PRODID:-//ChamberMaster//Event Calendar 2.0//EN
METHOD:PUBLISH
X-PUBLISHED-TTL:P3D
REFRESH-INTERVAL:P3D
CALSCALE:GREGORIAN
BEGIN:VEVENT
DTSTART:20190123T180000Z
DTEND:20190123T190000Z
X-MICROSOFT-CDO-ALLDAYEVENT:FALSE
SUMMARY:Winter Tales (Toucan) at Reeves-Reed Arboretum
DESCRIPTION:(for children ages 3-5 with an adult) Explore the world of endangered species with us at the Arboretum. Did you know that the toucan can have a bill that is nearly four times the length of its head and as long as the rest of its body? In today's program you'll learn why it has such an amazing beak. Join us for an enjoyable hike\, interesting facts\, fun stories and a craft. Registration is required. Please note that the Non-Member cost is $15 per child. Date/Time: Wednesday\, January 23\, 1:00pm - 2:00pm. Location:  Reeves-Reed Arboretum\, 165 Hobart Ave.\, Summit\, NJ 07901 Ages:  3 to 5 with an adult Cost:  Members: FREE\, Non-Members: $15/Child Pre-Registration:  Required. On-Line Registration:  Visit our website More Information:  RRA Website  Contact:  Doreen Schindler\, D.Schindler@Reeves-ReedArboretum.org\, (908) 273-8787 x1010.
X-ALT-DESC;FMTTYPE=text/html:(for children ages 3-5 with an adult) Explore the world of endangered species with us at the Arboretum. Did you know that the toucan can have a bill that is nearly four times the length of its head and as long as the rest of its body? In today&#39\;s program you&#39\;ll learn why it has such an amazing beak. Join us for an enjoyable hike\, interesting facts\, fun stories and a craft. Registration is required. Please note that the Non-Member cost is $15 per child. Date/Time:&nbsp\;Wednesday\, January 23\, 1:00pm - 2:00pm. Location:&nbsp\; Reeves-Reed Arboretum\, 165 Hobart Ave.\, Summit\, NJ 07901 Ages:&nbsp\; 3 to 5 with an adult Cost:&nbsp\; Members: FREE\, Non-Members: $15/Child Pre-Registration:&nbsp\; Required. On-Line Registration:&nbsp\; Visit our website More Information:&nbsp\; RRA Website&nbsp\; Contact:&nbsp\; Doreen Schindler\, D.Schindler@Reeves-ReedArboretum.org\, (908) 273-8787 x1010.
LOCATION:Reeves-Reed Arboretum\, 165 Hobart Ave.\, Summit\, NJ 07901
UID:e.870.14850
SEQUENCE:3
DTSTAMP:20260420T150202Z
URL:https://business.suburbanchambers.org/events/details/winter-tales-toucan-at-reeves-reed-arboretum-14850
END:VEVENT

END:VCALENDAR
