BEGIN:VCALENDAR
VERSION:2.0
PRODID:-//ChamberMaster//Event Calendar 2.0//EN
METHOD:PUBLISH
X-PUBLISHED-TTL:P3D
REFRESH-INTERVAL:P3D
CALSCALE:GREGORIAN
BEGIN:VEVENT
DTSTART:20190107T170000Z
DTEND:20190107T200000Z
X-MICROSOFT-CDO-ALLDAYEVENT:FALSE
SUMMARY:Winter Pickleball at Summit YMCA 1/2-2/24/19.
DESCRIPTION:Pickle ball is a racquet sport that combines elements of badminton\, tennis\, and table tennis. A paddle sport created for all ages and skill levels! The rules are simple and the game is easy to learn. Beginner\, Intermediate & Advanced level Play. Please contact Lisa Meyers for details
X-ALT-DESC;FMTTYPE=text/html:Pickle ball is a racquet sport that combines elements of badminton\, tennis\, and table tennis. A paddle sport created for all ages and skill levels! The rules are simple and the game is easy to learn. Beginner\, Intermediate &amp\; Advanced level Play. Please contact Lisa Meyers for details
LOCATION:Summit YMCA 67 Maple Street Summit NJ
UID:e.870.14590
SEQUENCE:3
DTSTAMP:20260420T114945Z
URL:https://business.suburbanchambers.org/events/details/winter-pickleball-at-summit-ymca-1-2-2-24-19-01-07-2019-14590
END:VEVENT

END:VCALENDAR
