BEGIN:VCALENDAR
VERSION:2.0
PRODID:-//ChamberMaster//Event Calendar 2.0//EN
METHOD:PUBLISH
X-PUBLISHED-TTL:P3D
REFRESH-INTERVAL:P3D
CALSCALE:GREGORIAN
BEGIN:VEVENT
DTSTART:20190522T213000Z
DTEND:20190522T230000Z
X-MICROSOFT-CDO-ALLDAYEVENT:FALSE
SUMMARY:WINE DOWN WEDNESDAY Piattino's!
DESCRIPTION:Business After Hours networking in a relaxed atmosphere.
X-ALT-DESC;FMTTYPE=text/html:<span style="font-size:18px\;"><span style="font-family:comic sans ms\;"><span comic="" font-size:="" sans="" style="color: rgb(102\, 0\, 51)\; font-family: ">Business After Hours networking in a relaxed atmosphere.&nbsp\;&nbsp\;</span></span></span>
LOCATION:PIATTINO- A NEIGHBORHOOD BISTRO 67 Union Place\, Summit
UID:e.870.15284
SEQUENCE:3
DTSTAMP:20260419T232016Z
URL:https://business.suburbanchambers.org/events/details/wine-down-wednesday-piattino-s-15284
END:VEVENT

END:VCALENDAR
