BEGIN:VCALENDAR
VERSION:2.0
PRODID:-//ChamberMaster//Event Calendar 2.0//EN
METHOD:PUBLISH
X-PUBLISHED-TTL:P3D
REFRESH-INTERVAL:P3D
CALSCALE:GREGORIAN
BEGIN:VEVENT
DTSTART:20190227T223000Z
DTEND:20190228T000000Z
X-MICROSOFT-CDO-ALLDAYEVENT:FALSE
SUMMARY:Wine Down Wednesday - Join Us For a Great Night at Grain & Cane!
DESCRIPTION:Business After Hours networking in a relaxed atmosphere.  This month GRAIN & CANE at the newly opened Embassy Suites Hotel in the  Connell Park\, Berkeley Heights\, will host- this exciting new restaurant is a NOT TO MISS evening!!
X-ALT-DESC;FMTTYPE=text/html:<span style="color:#660033\;"><span style="font-size:18px\;"><span style="font-family:comic sans ms\;">Business After Hours networking in a relaxed atmosphere.&nbsp\; This month GRAIN &amp\; CANE at the newly opened Embassy Suites Hotel in the&nbsp\; Connell Park\, Berkeley Heights\, will host- this exciting new restaurant is a NOT TO MISS evening!!&nbsp\; &nbsp\; &nbsp\; &nbsp\; &nbsp\;&nbsp\;</span></span></span>
LOCATION:Grain and Cane 250 Connell Avenue Berkeley Heights\, NJ
UID:e.870.15281
SEQUENCE:3
DTSTAMP:20260420T113950Z
URL:https://business.suburbanchambers.org/events/details/wine-down-wednesday-join-us-for-a-great-night-at-grain-cane-15281
END:VEVENT

END:VCALENDAR
