BEGIN:VCALENDAR
VERSION:2.0
PRODID:-//ChamberMaster//Event Calendar 2.0//EN
METHOD:PUBLISH
X-PUBLISHED-TTL:P3D
REFRESH-INTERVAL:P3D
CALSCALE:GREGORIAN
BEGIN:VEVENT
DTSTART:20190424T213000Z
DTEND:20190424T230000Z
X-MICROSOFT-CDO-ALLDAYEVENT:FALSE
SUMMARY:WINE DOWN WEDNESDAY- Giovanni's Bar and Bistro\, Berkeley Heights
DESCRIPTION:Join us at Giovanni's inviting Bar and Bistro\,\n\nwhere their philosophy is\n\n"We are friends serving friends"
X-ALT-DESC;FMTTYPE=text/html:<span style="language:en-US\;"><span style="color:#400040\;"><span style="font-family:calibri\;"><span style="font-size:22.0pt\;">Join us at Giovanni&#39\;s inviting Bar and Bistro\,</span></span></span></span><br />\n<span style="language:en-US\;"><span style="color:#400040\;"><span style="font-family:calibri\;"><span style="font-size:22.0pt\;">where their philosophy is</span></span></span></span><br />\n<span style="font-weight:bold\;language:en-US\;"><span style="color:#400040\;"><span style="font-family:pristina\;"><span style="font-size:24.0pt\;">&quot\;We are friends serving friends&quot\;</span></span></span></span><br />\n&nbsp\;<br />\n&nbsp\;
LOCATION:Giovanni's Bar and Bistro 449 Springfield Ave\, Berkeley Heights
UID:e.870.15283
SEQUENCE:3
DTSTAMP:20260419T235808Z
URL:https://business.suburbanchambers.org/events/details/wine-down-wednesday-giovanni-s-bar-and-bistro-berkeley-heights-15283
END:VEVENT

END:VCALENDAR
