BEGIN:VCALENDAR
VERSION:2.0
PRODID:-//ChamberMaster//Event Calendar 2.0//EN
METHOD:PUBLISH
X-PUBLISHED-TTL:P3D
REFRESH-INTERVAL:P3D
CALSCALE:GREGORIAN
BEGIN:VEVENT
DTSTART:20181003T213000Z
DTEND:20181003T230000Z
X-MICROSOFT-CDO-ALLDAYEVENT:FALSE
SUMMARY:Wine Down Wednesday- at TMC's Boutique
DESCRIPTION:Business After Hours networking in a relaxed atmosphere.  This month enjoy a feast for your eyes in this fabulous "Home to local artists" boutique\, featuring 40 local and over 20 U.S. & Fair Trade artists!
X-ALT-DESC;FMTTYPE=text/html:<span style="font-size:14px\;"><span style="font-family:tahoma\;">Business After Hours networking in a relaxed atmosphere.&nbsp\; This month enjoy a feast for your eyes in this fabulous <span style="color:#000000\;"><span style="text-align: justify\;">&quot\;Home to local artists&quot\; boutique\, featuring 40 local&nbsp\;and over 20&nbsp\;U.S. &amp\; Fair Trade artists!</span></span></span></span>
LOCATION:TMC's Boutique 1259 Springfield Avenue New Providence\, NJ
UID:e.870.14487
SEQUENCE:3
DTSTAMP:20260420T220321Z
URL:https://business.suburbanchambers.org/events/details/wine-down-wednesday-at-tmc-s-boutique-14487
END:VEVENT

END:VCALENDAR
