BEGIN:VCALENDAR
VERSION:2.0
PRODID:-//ChamberMaster//Event Calendar 2.0//EN
METHOD:PUBLISH
X-PUBLISHED-TTL:P3D
REFRESH-INTERVAL:P3D
CALSCALE:GREGORIAN
BEGIN:VEVENT
DTSTART:20181128T223000Z
DTEND:20181129T000000Z
X-MICROSOFT-CDO-ALLDAYEVENT:FALSE
SUMMARY:Wine Down Wednesday- at The Office\, November 28th
DESCRIPTION:Come Network and Relax After the Office at The Office Tavern * Grill! \n\nDelicious Appetizers Provided by our Host\, Cash Bar
X-ALT-DESC;FMTTYPE=text/html:<span style="font-size:16px\;"><span style="font-family:comic sans ms\;"><span style="color:#660033\;"><span style="font-weight:bold\;language:en-US\;">Come Network and Relax After the Office at The Office Tavern * Grill! </span><br />\n<span style="font-weight:bold\;language:en-US\;">Delicious Appetizers Provided by our Host\, Cash Bar</span></span><br />\n&nbsp\;</span></span><br />\n&nbsp\;
LOCATION:The Office Tavern * Grill 61 Union Place\, Summit
UID:e.870.14811
SEQUENCE:3
DTSTAMP:20260420T183827Z
URL:https://business.suburbanchambers.org/events/details/wine-down-wednesday-at-the-office-november-28th-14811
END:VEVENT

END:VCALENDAR
