BEGIN:VCALENDAR
VERSION:2.0
PRODID:-//ChamberMaster//Event Calendar 2.0//EN
METHOD:PUBLISH
X-PUBLISHED-TTL:P3D
REFRESH-INTERVAL:P3D
CALSCALE:GREGORIAN
BEGIN:VEVENT
DTSTART:20180627T213000Z
DTEND:20180627T230000Z
X-MICROSOFT-CDO-ALLDAYEVENT:FALSE
SUMMARY:Wine Down Wednesday- at The DeBary Inn\, Summit
DESCRIPTION:Business After Hours networking in a relaxed atmosphere.  This month enjoy the relaxed setting of Summit's only Executive Boutique Inn and the area's loveliest bed and breakfasts\, located just off of the downtown.
X-ALT-DESC;FMTTYPE=text/html:<span style="font-size:14px\;">Business After Hours networking in a relaxed atmosphere.&nbsp\; This month enjoy the relaxed setting of Summit&#39\;s only Executive Boutique Inn and the area&#39\;s loveliest bed and breakfasts\, located just off of the downtown.</span>
LOCATION:The DeBary Inn 265 Springfield Avenue Summit\, NJ 07901
UID:e.870.14103
SEQUENCE:3
DTSTAMP:20260421T100821Z
URL:https://business.suburbanchambers.org/events/details/wine-down-wednesday-at-the-debary-inn-summit-14103
END:VEVENT

END:VCALENDAR
