BEGIN:VCALENDAR
VERSION:2.0
PRODID:-//ChamberMaster//Event Calendar 2.0//EN
METHOD:PUBLISH
X-PUBLISHED-TTL:P3D
REFRESH-INTERVAL:P3D
CALSCALE:GREGORIAN
BEGIN:VEVENT
DTSTART:20190123T223000Z
DTEND:20190124T000000Z
X-MICROSOFT-CDO-ALLDAYEVENT:FALSE
SUMMARY:Wine Down Wednesday- at Office Evolution!
DESCRIPTION:Come Network and Relax After the  office at The Office Evolution\n\nWine and lite bites
X-ALT-DESC;FMTTYPE=text/html:<span style="font-size:16px\;"><span style="font-family:comic sans ms\;"><span style="color:#660033\;"><span style="font-weight:bold\;language:en-US\;">Come Network and Relax After the&nbsp\; office at The Office Evolution</span><br />\n<span style="font-weight:bold\;language:en-US\;">Wine and lite bites</span></span><br />\n&nbsp\;</span></span><br />\n&nbsp\;
LOCATION:Office Evolution 350 Springfield Avenue\, Suite 200\, Summit
UID:e.870.14817
SEQUENCE:3
DTSTAMP:20260420T142409Z
URL:https://business.suburbanchambers.org/events/details/wine-down-wednesday-at-office-evolution-14817
END:VEVENT

END:VCALENDAR
