BEGIN:VCALENDAR
VERSION:2.0
PRODID:-//ChamberMaster//Event Calendar 2.0//EN
METHOD:PUBLISH
X-PUBLISHED-TTL:P3D
REFRESH-INTERVAL:P3D
CALSCALE:GREGORIAN
BEGIN:VEVENT
DTSTART:20180530T213000Z
DTEND:20180530T230000Z
X-MICROSOFT-CDO-ALLDAYEVENT:FALSE
SUMMARY:Wine Down Wednesday- at GRAIN & CANE\, Embassy Suites Hotel
DESCRIPTION:Business After Hours networking in a relaxed atmosphere.  This month GRAIN & CANE at the newly opened Embassy Suites Hotel in the  Connell Park\, Berkeley Heights\, will host- this exciting new restaurant is a NOT TO MISS evening!!
X-ALT-DESC;FMTTYPE=text/html:<span style="font-size:14px\;">Business After Hours networking in a relaxed atmosphere.&nbsp\; This month GRAIN &amp\; CANE at the newly opened Embassy Suites Hotel in the&nbsp\; Connell Park\, Berkeley Heights\, will host- this exciting new restaurant is a NOT TO MISS evening!!&nbsp\; &nbsp\; &nbsp\; &nbsp\; &nbsp\;</span>&nbsp\;
LOCATION:Grain and Cane 250 Connell Avenue Berkeley Heights\, NJ
UID:e.870.13019
SEQUENCE:3
DTSTAMP:20260421T125858Z
URL:https://business.suburbanchambers.org/events/details/wine-down-wednesday-at-grain-cane-embassy-suites-hotel-13019
END:VEVENT

END:VCALENDAR
