BEGIN:VCALENDAR
VERSION:2.0
PRODID:-//ChamberMaster//Event Calendar 2.0//EN
METHOD:PUBLISH
X-PUBLISHED-TTL:P3D
REFRESH-INTERVAL:P3D
CALSCALE:GREGORIAN
BEGIN:VEVENT
DTSTART:20190209T150000Z
DTEND:20190209T160000Z
X-MICROSOFT-CDO-ALLDAYEVENT:FALSE
SUMMARY:Who Is That at My Bird Feeder?
DESCRIPTION:Pete Axelrod of Wild Birds Unlimited will introduce the birds in your backyard\, discuss how to tell species apart & go over how to participate in the Great Backyard Bird Count on Feb 16 - 19.
X-ALT-DESC;FMTTYPE=text/html:Pete Axelrod of Wild Birds Unlimited will introduce the birds in your backyard\, discuss how to tell species apart &amp\; go over how to participate in the Great Backyard Bird Count on Feb 16 - 19.
LOCATION:New Providence Memorial Library
UID:e.870.15189
SEQUENCE:3
DTSTAMP:20260420T080135Z
URL:https://business.suburbanchambers.org/events/details/who-is-that-at-my-bird-feeder-15189
END:VEVENT

END:VCALENDAR
