BEGIN:VCALENDAR
VERSION:2.0
PRODID:-//ChamberMaster//Event Calendar 2.0//EN
METHOD:PUBLISH
X-PUBLISHED-TTL:P3D
REFRESH-INTERVAL:P3D
CALSCALE:GREGORIAN
BEGIN:VEVENT
DTSTART:20190320T170000Z
DTEND:20190320T180000Z
X-MICROSOFT-CDO-ALLDAYEVENT:FALSE
SUMMARY:What has Changed Since I Started Driving
DESCRIPTION:Vehicles have changed as well as technology. It's important to stay up to date to ensure you keep driving safely. TransOptions\, Inc will present a program outlining all the changes that have taken place since you first got your license.
X-ALT-DESC;FMTTYPE=text/html:Vehicles have changed as well as technology. It&rsquo\;s important to stay up to date to ensure you keep driving safely. TransOptions\, Inc will present a program outlining all the changes that have taken place since you first got your license.&nbsp\;
LOCATION:SAGE Eldercare 290 Broad Street Summit NJ
UID:e.870.15286
SEQUENCE:3
DTSTAMP:20260420T034417Z
URL:https://business.suburbanchambers.org/events/details/what-has-changed-since-i-started-driving-15286
END:VEVENT

END:VCALENDAR
