BEGIN:VCALENDAR
VERSION:2.0
PRODID:-//ChamberMaster//Event Calendar 2.0//EN
METHOD:PUBLISH
X-PUBLISHED-TTL:P3D
REFRESH-INTERVAL:P3D
CALSCALE:GREGORIAN
BEGIN:VEVENT
DTSTART:20230104T220000Z
DTEND:20230104T233000Z
X-MICROSOFT-CDO-ALLDAYEVENT:FALSE
SUMMARY:WELLNESS WEDNESDAY
DESCRIPTION:What if You Could turn Back the Clock?\nYou are invited to learn how you can naturally Activate Your Own Body to improve your well-being and immune health that will allow you to feel 30 years younger. \n\n \n\nThis exciting presentation will focus on a scientific Anti-Aging breakthrough that is backed by more than 30 independently funded\, peer-reviewed and published studies from many well-known research institutions\, such as Harvard\, Washington State University\, American Heart Association\, plus many more.\n\n \n\nPresented by Dr. Teri Tomlinson ND\, MH\, CNHP\n\nDr. Tomlinson has been studying natural health for more than 40 years.  She is a Board-Certified Naturopathic Doctor\, Master Herbalist\, Certified Natural Health Professional\, Certified Weight Loss Coach and a Tai Chi/Chi Kung Master Trainer.\n\nShe was presented a higher achievement award for Naturopathic Doctors by the American Naturopathic Medical Association in 2014.   \n\nDr. Tomlinson lives in the Villages in Florida.
X-ALT-DESC;FMTTYPE=text/html:<div style="text-align: center\;"><strong><span style="color:#161A1D\;"><span style="font-family:georgia\,serif\;"><span style="font-size:18.0pt\;">What if You Could turn Back the Clock?</span></span></span></strong></div>\n<span style="font-family:georgia\,serif\;"><span style="font-size:14.0pt\;">You are invited to learn how you can naturally Activate Your Own Body to improve your well-being and immune health that will allow you to feel 30 years younger. </span></span><br />\n&nbsp\;<br />\n<span style="color:black\;"><span style="font-family:georgia\,serif\;"><span style="font-size:14.0pt\;">This exciting presentation will focus&nbsp\;on a scientific Anti-Aging breakthrough that is backed by more than 30 independently funded\, peer-reviewed and published studies from many well-known research institutions\, such as Harvard\, Washington State University\, American Heart Association\, plus many more.</span></span></span><br />\n&nbsp\;<br />\n<span style="font-family:georgia\,serif\;"><span style="font-size:16.0pt\;">Presented by Dr. Teri Tomlinson ND\, MH\, CNHP</span></span><br />\n<span style="font-family:georgia\,serif\;">Dr. Tomlinson has been studying natural health for more than 40 years.&nbsp\; She is a Board-Certified Naturopathic Doctor\, Master Herbalist\, Certified Natural Health Professional\, Certified Weight Loss Coach and a Tai Chi/Chi Kung Master Trainer.</span><br />\n<span style="font-family:georgia\,serif\;">She was presented a higher achievement award for Naturopathic Doctors by the American Naturopathic Medical Association in 2014.&nbsp\;&nbsp\; </span><br />\n<span style="font-family:georgia\,serif\;">Dr. Tomlinson lives in the Villages in Florida.</span>
LOCATION:Wednesday January 4\, 2023 at 5:00 PM Drinks and Light Fair will be available Hosted Ann-Britt Paulsen DUXIANA 354 Springfield Avenue Summit\, NJ 07901 908-522-8200 duxianasummit@gmail.com
UID:e.870.18308
SEQUENCE:3
DTSTAMP:20260421T192043Z
URL:https://business.suburbanchambers.org/events/details/wellness-wednesday-18308
END:VEVENT

END:VCALENDAR
