BEGIN:VCALENDAR
VERSION:2.0
PRODID:-//ChamberMaster//Event Calendar 2.0//EN
METHOD:PUBLISH
X-PUBLISHED-TTL:P3D
REFRESH-INTERVAL:P3D
CALSCALE:GREGORIAN
BEGIN:VEVENT
DTSTART:20190116T000000Z
DTEND:20190116T010000Z
X-MICROSOFT-CDO-ALLDAYEVENT:FALSE
SUMMARY:Weight Loss: a State of Mind
DESCRIPTION:Board-certified internist Dr. Kavita Kewalramani of K Primary Care in New Providence will discuss how weight loss depends on the right mindset. Learn about the phases of change and what it takes to get your mind ready to lose weight.
X-ALT-DESC;FMTTYPE=text/html:Board-certified internist Dr. Kavita Kewalramani of K Primary Care in New Providence will discuss how weight loss depends on the right mindset. Learn about the phases of change and what it takes to get your mind ready to lose weight.
LOCATION:New Providence Memorial Library
UID:e.870.15202
SEQUENCE:3
DTSTAMP:20260420T143848Z
URL:https://business.suburbanchambers.org/events/details/weight-loss-a-state-of-mind-15202
END:VEVENT

END:VCALENDAR
