BEGIN:VCALENDAR
VERSION:2.0
PRODID:-//ChamberMaster//Event Calendar 2.0//EN
METHOD:PUBLISH
X-PUBLISHED-TTL:P3D
REFRESH-INTERVAL:P3D
CALSCALE:GREGORIAN
BEGIN:VEVENT
DTSTART:20180425T140000Z
DTEND:20180425T153000Z
X-MICROSOFT-CDO-ALLDAYEVENT:FALSE
SUMMARY:Weed or Wildflower? Spring Weed ID and Controls at Reeves-Reed Arboretum
DESCRIPTION:To get a head start on keeping your garden weed-free\, it's important to start in the spring! Join Lead Horticulturist Julieanne Frascinella on a tour of the Arboretum grounds and learn to not only identify weeds\, but the best practices for removal and suppression. This class will meet in the sun porch of Wisner House\, followed by a tour of the grounds. Registration is required.
X-ALT-DESC;FMTTYPE=text/html:To get a head start on keeping your garden weed-free\, it&#39\;s important to start in the spring! Join Lead Horticulturist Julieanne Frascinella on a tour of the Arboretum grounds and learn to not only identify weeds\, but the best practices for removal and suppression. This class will meet in the sun porch of Wisner House\, followed by a tour of the grounds. Registration is required.&nbsp\;
LOCATION:Reeves-Reed Arboretum 165 Hobart Ave. Summit\, NJ 07901
UID:e.870.11773
SEQUENCE:3
DTSTAMP:20260421T161014Z
URL:https://business.suburbanchambers.org/events/details/weed-or-wildflower-spring-weed-id-and-controls-at-reeves-reed-arboretum-11773
END:VEVENT

END:VCALENDAR
