BEGIN:VCALENDAR
VERSION:2.0
PRODID:-//ChamberMaster//Event Calendar 2.0//EN
METHOD:PUBLISH
X-PUBLISHED-TTL:P3D
REFRESH-INTERVAL:P3D
CALSCALE:GREGORIAN
BEGIN:VEVENT
DTSTART:20180502T140000Z
DTEND:20180502T150000Z
X-MICROSOFT-CDO-ALLDAYEVENT:FALSE
SUMMARY:Weed Less Gardening (Adults) at Reeves-Reed Arboretum
DESCRIPTION:Learn the method that takes the weeds and work out of vegetable gardening. That's Square Foot Gardening! Registration is required. Union County Master Gardeners can receive Continuing Education Credits (CEU) for this course\, as well as member pricing. To receive member pricing\, please contact Doreen Schindler. This program is supported\, in part\, through grants from the Junior League of Summit and the Summit Area Public Foundation.
X-ALT-DESC;FMTTYPE=text/html:Learn the method that takes the weeds and work out of vegetable gardening. That&#39\;s Square Foot Gardening! Registration is required. Union County Master Gardeners can receive Continuing Education Credits (CEU) for this course\, as well as member pricing. To receive member pricing\, please contact Doreen Schindler.&nbsp\;This program is supported\, in part\, through grants from the Junior League of Summit and the Summit Area Public Foundation.
LOCATION:Reeves-Reed Arboretum 165 Hobart Ave. Summit\, NJ 07901
UID:e.870.11789
SEQUENCE:3
DTSTAMP:20260421T133631Z
URL:https://business.suburbanchambers.org/events/details/weed-less-gardening-adults-at-reeves-reed-arboretum-11789
END:VEVENT

END:VCALENDAR
