BEGIN:VCALENDAR
VERSION:2.0
PRODID:-//ChamberMaster//Event Calendar 2.0//EN
METHOD:PUBLISH
X-PUBLISHED-TTL:P3D
REFRESH-INTERVAL:P3D
CALSCALE:GREGORIAN
BEGIN:VEVENT
DTSTART:20190117T173000Z
DTEND:20190117T181500Z
X-MICROSOFT-CDO-ALLDAYEVENT:FALSE
SUMMARY:Webinar: Propel Your Productivity in 7 Easy Steps
DESCRIPTION:We've talked about goal setting for growth\, now let's talk about working smarter and more efficiently. Join Jean Marie Herron and Donna Miller as we talk about seven non-negotiable elements to creating and maintaining a productive office. Whether you have a corner office\, cubicle or a home office the principles are the same. We will cover:   Basic infrastructure   Time management information systems   Productivity hacks\, apps and time saving tools   Tips for avoiding the shiny object Register to attend live or to receive the recording: http://bit.ly/2Tk156z
X-ALT-DESC;FMTTYPE=text/html:We&rsquo\;ve talked about goal setting for growth\, now let&rsquo\;s talk about working smarter and more efficiently. Join Jean Marie Herron and Donna Miller as we talk about seven non-negotiable elements to creating and maintaining a productive office. Whether you have a corner office\, cubicle or a home office the principles are the same. We will cover: &bull\; Basic infrastructure &bull\; Time management information systems &bull\; Productivity hacks\, apps and time saving tools &bull\; Tips for avoiding the shiny object Register to attend live or to receive the recording: http://bit.ly/2Tk156z
LOCATION:Zoom Webinar http://bit.ly/2Tk156z
UID:e.870.14807
SEQUENCE:3
DTSTAMP:20260420T113055Z
URL:https://business.suburbanchambers.org/events/details/webinar-propel-your-productivity-in-7-easy-steps-14807
END:VEVENT

END:VCALENDAR
