BEGIN:VCALENDAR
VERSION:2.0
PRODID:-//ChamberMaster//Event Calendar 2.0//EN
METHOD:PUBLISH
X-PUBLISHED-TTL:P3D
REFRESH-INTERVAL:P3D
CALSCALE:GREGORIAN
BEGIN:VEVENT
DTSTART:20190406T223000Z
DTEND:20190407T023000Z
X-MICROSOFT-CDO-ALLDAYEVENT:FALSE
SUMMARY:Visual Arts Center of New Jersey Annual Gala
DESCRIPTION:The Visual Arts Center of New Jersey's Annual Spring Gala
X-ALT-DESC;FMTTYPE=text/html:The Visual Arts Center of New Jersey&#39\;s Annual Spring Gala
LOCATION:TBB
UID:e.870.11821
SEQUENCE:3
DTSTAMP:20260420T000046Z
URL:https://business.suburbanchambers.org/events/details/visual-arts-center-of-new-jersey-annual-gala-11821
END:VEVENT

END:VCALENDAR
