BEGIN:VCALENDAR
VERSION:2.0
PRODID:-//ChamberMaster//Event Calendar 2.0//EN
METHOD:PUBLISH
X-PUBLISHED-TTL:P3D
REFRESH-INTERVAL:P3D
CALSCALE:GREGORIAN
BEGIN:VEVENT
DTSTART:20180530T223000Z
DTEND:20180531T000000Z
X-MICROSOFT-CDO-ALLDAYEVENT:FALSE
SUMMARY:Visions of Hope Art Exhibit at The Connection\, through June
DESCRIPTION:Art Show Opening Night Wine and Cheese Reception. Free and open to the public. The accomplished artist and breast cancer survivor\, Susan H. Schaffer\, will display her artwork from her Visions of Hope Exhibit at The Connection.  Come see her magnificent and poignant portraits of cancer survivors. Exhibit continues through June.
X-ALT-DESC;FMTTYPE=text/html:<span style="color:#222222"><span style="font-family:times new roman\,serif"><span style="font-size:12pt">Art Show Opening Night Wine and Cheese Reception. Free and open to the public. The accomplished artist and breast cancer survivor\, Susan H. Schaffer\, will display her artwork from her Visions of Hope Exhibit at The Connection.&nbsp\; Come see her magnificent and poignant portraits of cancer survivors. Exhibit continues through June.</span></span></span>
LOCATION:The Connection\, 79 Maple St. Summit\, NJ 07901
UID:e.870.11874
SEQUENCE:3
DTSTAMP:20260421T133350Z
URL:https://business.suburbanchambers.org/events/details/visions-of-hope-art-exhibit-at-the-connection-through-june-11874
END:VEVENT

END:VCALENDAR
