BEGIN:VCALENDAR
VERSION:2.0
PRODID:-//ChamberMaster//Event Calendar 2.0//EN
METHOD:PUBLISH
X-PUBLISHED-TTL:P3D
REFRESH-INTERVAL:P3D
CALSCALE:GREGORIAN
BEGIN:VEVENT
DTSTART:20190513T170000Z
DTEND:20190513T180000Z
X-MICROSOFT-CDO-ALLDAYEVENT:FALSE
SUMMARY:Vision Loss Coping Techniques
DESCRIPTION:An expert from Vision Loss Alliance of New Jersey will lead this program offering techniques that will help increase home safety\, improve daily tasks and provide understanding of assistive technologies and devices specifically designed for those with vision loss.
X-ALT-DESC;FMTTYPE=text/html:An expert from Vision Loss Alliance of New Jersey will lead this program offering techniques that will help increase home safety\, improve daily tasks and provide understanding of assistive technologies and devices specifically designed for those with vision loss.
LOCATION:SAGE Eldercare 290 Broad Street
UID:e.870.15455
SEQUENCE:3
DTSTAMP:20260419T185821Z
URL:https://business.suburbanchambers.org/events/details/vision-loss-coping-techniques-15455
END:VEVENT

END:VCALENDAR
