BEGIN:VCALENDAR
VERSION:2.0
PRODID:-//ChamberMaster//Event Calendar 2.0//EN
METHOD:PUBLISH
X-PUBLISHED-TTL:P3D
REFRESH-INTERVAL:P3D
CALSCALE:GREGORIAN
BEGIN:VEVENT
DTSTART:20190212T230000Z
DTEND:20190213T000000Z
X-MICROSOFT-CDO-ALLDAYEVENT:FALSE
SUMMARY:Virtual Lunar Tour with Ranger Bob
DESCRIPTION:Ranger Bob will discuss various concepts of lunar phases\, eclipses and tides as well as share vivid\, close-up images of the Moon's terrain including Apollo landing sites. After\, we'll take a telescope outside (weather permitting) and share magnificent views of a waxing crescent Moon gliding across the southern skies. Dress warmly! A rain date is scheduled for 2/21. Open to children of all ages.
X-ALT-DESC;FMTTYPE=text/html:Ranger Bob will discuss various concepts of lunar phases\, eclipses and tides as well as share vivid\, close-up images of the Moon&#39\;s terrain including Apollo landing sites. After\, we&#39\;ll take a telescope outside (weather permitting) and share magnificent views of a waxing crescent Moon gliding across the southern skies. Dress warmly! A rain date is scheduled for 2/21. Open to children of all ages.
LOCATION:New Providence Memorial Library
UID:e.870.15193
SEQUENCE:3
DTSTAMP:20260420T113247Z
URL:https://business.suburbanchambers.org/events/details/virtual-lunar-tour-with-ranger-bob-15193
END:VEVENT

END:VCALENDAR
