BEGIN:VCALENDAR
VERSION:2.0
PRODID:-//ChamberMaster//Event Calendar 2.0//EN
METHOD:PUBLISH
X-PUBLISHED-TTL:P3D
REFRESH-INTERVAL:P3D
CALSCALE:GREGORIAN
BEGIN:VEVENT
DTSTART:20190501T170000Z
DTEND:20190501T180000Z
X-MICROSOFT-CDO-ALLDAYEVENT:FALSE
SUMMARY:Veteran Benefits Assistance Program
DESCRIPTION:Understanding Veterans benefits including healthcare and the Veteran's Home care VetAssist Program. 1:00 -2:00 pm\, SAGE Eldercare\, 290 Broad Street\, Summit.
X-ALT-DESC;FMTTYPE=text/html:Understanding Veterans benefits including healthcare and the Veteran&#39\;s Home care VetAssist Program. 1:00 -2:00 pm\, SAGE Eldercare\, 290 Broad Street\, Summit.
LOCATION:SAGE Eldercare 290 Broad Street Summit
UID:e.870.15454
SEQUENCE:3
DTSTAMP:20260419T190204Z
URL:https://business.suburbanchambers.org/events/details/veteran-benefits-assistance-program-15454
END:VEVENT

END:VCALENDAR
