BEGIN:VCALENDAR
VERSION:2.0
PRODID:-//ChamberMaster//Event Calendar 2.0//EN
METHOD:PUBLISH
X-PUBLISHED-TTL:P3D
REFRESH-INTERVAL:P3D
CALSCALE:GREGORIAN
BEGIN:VEVENT
DTSTART:20190115T150000Z
DTEND:20190115T150000Z
X-MICROSOFT-CDO-ALLDAYEVENT:FALSE
SUMMARY:US Constitution vs Canadian Constitution
DESCRIPTION:Dr. Michael Hawes\, CEO Fullbright Canada and professor at Queens University in Ontario\, will discuss the differences in the constitution of the United States and that of Canada. Whereas the U.S. Constitution guarantees that its citizens have the right to 'life\, liberty\, and the pursuit of happiness' \, Canada's constitution guarantees 'peace\, order\, and good govern-ment'. Paying particular attention to single payer publicly funded health care\, immigration experience and publicly funded education\, Dr. Hawes will speak on 'lessons from Canada'. The event will take place at the Summit Old Guard meeting
X-ALT-DESC;FMTTYPE=text/html:Dr. Michael Hawes\, CEO Fullbright Canada and professor at Queens University in Ontario\, will discuss the differences in the constitution of the United States and that of Canada. Whereas the U.S. Constitution guarantees that its citizens have the right to &lsquo\;life\, liberty\, and the pursuit of happiness&rsquo\; \, Canada&rsquo\;s constitution guarantees &lsquo\;peace\, order\, and good govern-ment&rsquo\;. Paying particular attention to single payer publicly funded health care\, immigration experience and publicly funded education\, Dr. Hawes will speak on &lsquo\;lessons from Canada&rsquo\;. The event will take place at the Summit Old Guard meeting
LOCATION:New Providence Municipal Building
UID:e.870.14743
SEQUENCE:3
DTSTAMP:20260420T112340Z
URL:https://business.suburbanchambers.org/events/details/us-constitution-vs-canadian-constitution-14743
END:VEVENT

END:VCALENDAR
