BEGIN:VCALENDAR
VERSION:2.0
PRODID:-//ChamberMaster//Event Calendar 2.0//EN
METHOD:PUBLISH
X-PUBLISHED-TTL:P3D
REFRESH-INTERVAL:P3D
CALSCALE:GREGORIAN
BEGIN:VEVENT
DTSTART:20181213T210000Z
DTEND:20181213T230000Z
X-MICROSOFT-CDO-ALLDAYEVENT:FALSE
SUMMARY:Upcycled Holiday Crafts at Reeves-Reed Arboretum
DESCRIPTION:(For children ages 6 to 9) Turn your trash to treasure at this unique holiday workshop! Children will create one-of a kind gifts and decorations using recycled materials. This is a drop off program so it's ideal if you need a little extra time for holiday errands. Registration is required. Date/Time: Thursday\, December 13\, 4:00pm - 6:00pm. Location:  Reeves-Reed Arboretum\, 165 Hobart Ave.\, Summit\, NJ 07901 Ages:  6 to 9. Cost:  Members: $20\, Non-Members: $30/Child Pre-Registration:  Required. On-Line Registration:  Visit our website  More Information:  RRA Website  Contact:  Doreen Schindler\, D.Schindler@Reeves-ReedArboretum.org\, (908) 273-8787 x1010.
X-ALT-DESC;FMTTYPE=text/html:(For children ages 6 to 9) Turn your trash to treasure at this unique holiday workshop! Children will create one-of a kind gifts and decorations using recycled materials. This is a drop off program so it&#39\;s ideal if you need a little extra time for holiday errands. Registration is required. Date/Time:&nbsp\;Thursday\, December 13\, 4:00pm - 6:00pm. Location:&nbsp\; Reeves-Reed Arboretum\, 165 Hobart Ave.\, Summit\, NJ 07901 Ages:&nbsp\; 6 to 9. Cost:&nbsp\; Members: $20\, Non-Members: $30/Child Pre-Registration:&nbsp\; Required. On-Line Registration:&nbsp\; Visit our website&nbsp\; More Information:&nbsp\; RRA Website&nbsp\; Contact:&nbsp\; Doreen Schindler\, D.Schindler@Reeves-ReedArboretum.org\, (908) 273-8787 x1010.
LOCATION:Reeves-Reed Arboretum\, 165 Hobart Ave.\, Summit\, NJ 07901
UID:e.870.14846
SEQUENCE:3
DTSTAMP:20260420T153504Z
URL:https://business.suburbanchambers.org/events/details/upcycled-holiday-crafts-at-reeves-reed-arboretum-14846
END:VEVENT

END:VCALENDAR
