BEGIN:VCALENDAR
VERSION:2.0
PRODID:-//ChamberMaster//Event Calendar 2.0//EN
METHOD:PUBLISH
X-PUBLISHED-TTL:P3D
REFRESH-INTERVAL:P3D
CALSCALE:GREGORIAN
BEGIN:VEVENT
DTSTART:20190427T170000Z
DTEND:20190427T190000Z
X-MICROSOFT-CDO-ALLDAYEVENT:FALSE
SUMMARY:UC Rape Crisis Prevention & Media Literacy Presentation
DESCRIPTION:The Union County Rape Crisis Center will give an insightful presentation on media literacy & violence prevention for teens. Learn how media promotes\, reinforces and challenges social norms that affect our behavior\, and how to recognize how media representations can contribute to interpersonal violence\, such as bullying\, stalking\, dating violence and even sexual assault. Sons\, daughters and parents are all invited to come for this important discussion. *Registration is open on NP Community Pass. https://register.communitypass.net/reg/cat_program_list.cfm?season_id=20344
X-ALT-DESC;FMTTYPE=text/html:The Union County Rape Crisis Center will give an insightful presentation on media literacy &amp\; violence prevention for teens. Learn how media promotes\, reinforces and challenges social norms that affect our behavior\, and how to recognize how media representations can contribute to interpersonal violence\, such as bullying\, stalking\, dating violence and even sexual assault. Sons\, daughters and parents are all invited to come for this important discussion. *Registration is open on NP Community Pass. https://register.communitypass.net/reg/cat_program_list.cfm?season_id=20344
LOCATION:New Providence Memorial Library
UID:e.870.15364
SEQUENCE:3
DTSTAMP:20260420T035553Z
URL:https://business.suburbanchambers.org/events/details/uc-rape-crisis-prevention-media-literacy-presentation-15364
END:VEVENT

END:VCALENDAR
