BEGIN:VCALENDAR
VERSION:2.0
PRODID:-//ChamberMaster//Event Calendar 2.0//EN
METHOD:PUBLISH
X-PUBLISHED-TTL:P3D
REFRESH-INTERVAL:P3D
CALSCALE:GREGORIAN
BEGIN:VEVENT
DTSTART:20181027T230000Z
DTEND:20181028T010000Z
X-MICROSOFT-CDO-ALLDAYEVENT:FALSE
SUMMARY:Trunk or Treat Fun at the Summit YMCA!
DESCRIPTION:DATE: Saturday\, October 27 TIME: 7:00 PM-9:00 PM WHERE: Parking lot between the Summit YMCA & Summit Library\, 67 Maple Street\, Summit\, NJ  If you would like to decorate a car\, please visit Decorate Your Car to register. Prizes will be awarded for the funniest\, scariest and most creative cars!
X-ALT-DESC;FMTTYPE=text/html:DATE: Saturday\, October 27 TIME: 7:00 PM-9:00 PM WHERE: Parking lot between the Summit YMCA &amp\; Summit Library\, 67 Maple Street\, Summit\, NJ&nbsp\; If you would like to decorate a car\, please visit Decorate Your Car to register. Prizes will be awarded for the funniest\, scariest and most creative cars!
LOCATION:Summit YMCA 67 Maple Street\, Summit\, NJ
UID:e.870.14544
SEQUENCE:3
DTSTAMP:20260421T011149Z
URL:https://business.suburbanchambers.org/events/details/trunk-or-treat-fun-at-the-summit-ymca-14544
END:VEVENT

END:VCALENDAR
