BEGIN:VCALENDAR
VERSION:2.0
PRODID:-//ChamberMaster//Event Calendar 2.0//EN
METHOD:PUBLISH
X-PUBLISHED-TTL:P3D
REFRESH-INTERVAL:P3D
CALSCALE:GREGORIAN
BEGIN:VEVENT
DTSTART:20190528T160000Z
DTEND:20190528T190000Z
X-MICROSOFT-CDO-ALLDAYEVENT:FALSE
SUMMARY:Towne Club
DESCRIPTION:The Towne Club is a Woman's social organization whose annual fundraiser benefits the rescue squads of Summit\, New Providence and Berkeley Heights. Entertainment will be provided by a speaker from the "Early Trades & Crafts Museum" of Madison\, NJ.
X-ALT-DESC;FMTTYPE=text/html:The Towne Club is a Woman&#39\;s social organization whose annual fundraiser benefits the rescue squads of Summit\, New Providence and Berkeley Heights. Entertainment will be provided by a speaker from the &quot\;Early Trades &amp\; Crafts Museum&quot\; of Madison\, NJ.
LOCATION:Water and Wine 41 Stirling Rd. Watchung\, NJ
UID:e.870.15326
SEQUENCE:3
DTSTAMP:20260419T191634Z
URL:https://business.suburbanchambers.org/events/details/towne-club-05-28-2019-15326
END:VEVENT

END:VCALENDAR
