BEGIN:VCALENDAR
VERSION:2.0
PRODID:-//ChamberMaster//Event Calendar 2.0//EN
METHOD:PUBLISH
X-PUBLISHED-TTL:P3D
REFRESH-INTERVAL:P3D
CALSCALE:GREGORIAN
BEGIN:VEVENT
DTSTART:20190326T160000Z
DTEND:20190326T190000Z
X-MICROSOFT-CDO-ALLDAYEVENT:FALSE
SUMMARY:Towne Club
DESCRIPTION:The Towne Club is a Woman's social organization whose fundraiser benefits the rescue squads of Summit\, New Providence and Berkeley Heights. Entertainment will be provided by a Naturalist from the Trail Side Museum.
X-ALT-DESC;FMTTYPE=text/html:The Towne Club is a Woman&#39\;s social organization whose fundraiser benefits the rescue squads of Summit\, New Providence and Berkeley Heights. Entertainment will be provided by a Naturalist from the Trail Side Museum.
LOCATION:Alfies 101 Town Center Warren\, NJ
UID:e.870.15325
SEQUENCE:3
DTSTAMP:20260420T080558Z
URL:https://business.suburbanchambers.org/events/details/towne-club-03-26-2019-15325
END:VEVENT

END:VCALENDAR
