BEGIN:VCALENDAR
VERSION:2.0
PRODID:-//ChamberMaster//Event Calendar 2.0//EN
METHOD:PUBLISH
X-PUBLISHED-TTL:P3D
REFRESH-INTERVAL:P3D
CALSCALE:GREGORIAN
BEGIN:VEVENT
DTSTART:20190226T170000Z
DTEND:20190226T200000Z
X-MICROSOFT-CDO-ALLDAYEVENT:FALSE
SUMMARY:Towne Club
DESCRIPTION:The Towne Club is a Woman's social organization whose annual fundraiser benefits the rescue squads of Summit\, New Providence and Berkeley Heights.. Entertainment will be provided by the "4 old Parts" a Barbershop Quartet\, "Shame & Scandal".
X-ALT-DESC;FMTTYPE=text/html:The Towne Club is a Woman&#39\;s social organization whose annual fundraiser benefits the rescue squads of Summit\, New Providence and Berkeley Heights.. Entertainment will be provided by the &quot\;4 old Parts&quot\; a Barbershop Quartet\, &quot\;Shame &amp\; Scandal&quot\;.
LOCATION:Chimney Rock Inn 342 Valley Rd. Gillette
UID:e.870.15216
SEQUENCE:3
DTSTAMP:20260420T113839Z
URL:https://business.suburbanchambers.org/events/details/towne-club-02-26-2019-15216
END:VEVENT

END:VCALENDAR
