BEGIN:VCALENDAR
VERSION:2.0
PRODID:-//ChamberMaster//Event Calendar 2.0//EN
METHOD:PUBLISH
X-PUBLISHED-TTL:P3D
REFRESH-INTERVAL:P3D
CALSCALE:GREGORIAN
BEGIN:VEVENT
DTSTART:20190507T133000Z
DTEND:20190507T153000Z
X-MICROSOFT-CDO-ALLDAYEVENT:FALSE
SUMMARY:Towards a New Manhattan Project:
DESCRIPTION:A conversation with former PBS and CBS News producer and multiple Emmy Award winner Dan Dubno is writing an historical analysis for DARPA (the Defense Advanced Research Project Agency) on the history the Manhattan Project and other science efforts that have addressed "existential threats" to the United States or our allies. Dan will also discuss his history as a producer on the CBS Evening News and for CBS News Special Events\, where among thousands of news stories\, he supervised coverage of 9/11\, and Gulf Wars I and II. In addition to DARPA\, Dan was a long-term member of the Department of Homeland Security's Science and Technology Advisory Committee and also Contributing Editor to Popular Mechanics and other scientific journals. The discussion will take place at the New Providence Municipal building on May 7 at 9.30 am. Guests are welcome
X-ALT-DESC;FMTTYPE=text/html:A conversation with former PBS and CBS News producer and multiple Emmy Award winner Dan Dubno is writing an historical analysis for DARPA (the Defense Advanced Research Project Agency) on the history the Manhattan Project and other science efforts that have addressed &ldquo\;existential threats&rdquo\; to the United States or our allies. Dan will also discuss his history as a producer on the CBS Evening News and for CBS News Special Events\, where among thousands of news stories\, he supervised coverage of 9/11\, and Gulf Wars I and II. In addition to DARPA\, Dan was a long-term member of the Department of Homeland Security&rsquo\;s Science and Technology Advisory Committee and also Contributing Editor to Popular Mechanics and other scientific journals. The discussion will take place at the New Providence Municipal building on May 7 at 9.30 am. Guests are welcome
LOCATION:New Providence Municipal Building
UID:e.870.15447
SEQUENCE:3
DTSTAMP:20260419T232114Z
URL:https://business.suburbanchambers.org/events/details/towards-a-new-manhattan-project-15447
END:VEVENT

END:VCALENDAR
