BEGIN:VCALENDAR
VERSION:2.0
PRODID:-//ChamberMaster//Event Calendar 2.0//EN
METHOD:PUBLISH
X-PUBLISHED-TTL:P3D
REFRESH-INTERVAL:P3D
CALSCALE:GREGORIAN
BEGIN:VEVENT
DTSTART:20190411T160000Z
DTEND:20190411T170000Z
X-MICROSOFT-CDO-ALLDAYEVENT:FALSE
SUMMARY:Touch Tennis
DESCRIPTION:Adult Indoor tennis.This is a low impact fun filled Class. You will increase strength\, stability\, flexibility and hand eye coordination.No instruction just play
X-ALT-DESC;FMTTYPE=text/html:Adult Indoor tennis.This is a low impact fun filled Class. You will increase strength\, stability\, flexibility and hand eye coordination.No instruction just play
LOCATION:Summit YMCA Gym 67 Maple Street Summit NJ
UID:e.870.14953
SEQUENCE:3
DTSTAMP:20260419T235009Z
URL:https://business.suburbanchambers.org/events/details/touch-tennis-04-11-2019-14953
END:VEVENT

END:VCALENDAR
