BEGIN:VCALENDAR
VERSION:2.0
PRODID:-//ChamberMaster//Event Calendar 2.0//EN
METHOD:PUBLISH
X-PUBLISHED-TTL:P3D
REFRESH-INTERVAL:P3D
CALSCALE:GREGORIAN
BEGIN:VEVENT
DTSTART:20190307T170000Z
DTEND:20190307T180000Z
X-MICROSOFT-CDO-ALLDAYEVENT:FALSE
SUMMARY:Touch Tennis
DESCRIPTION:Adult Indoor tennis.This is a low impact fun filled Class. You will increase strength\, stability\, flexibility and hand eye coordination.No instruction just play
X-ALT-DESC;FMTTYPE=text/html:Adult Indoor tennis.This is a low impact fun filled Class. You will increase strength\, stability\, flexibility and hand eye coordination.No instruction just play
LOCATION:Summit YMCA Gym 67 Maple Street Summit NJ
UID:e.870.14948
SEQUENCE:3
DTSTAMP:20260420T074510Z
URL:https://business.suburbanchambers.org/events/details/touch-tennis-03-07-2019-14948
END:VEVENT

END:VCALENDAR
