BEGIN:VCALENDAR
VERSION:2.0
PRODID:-//ChamberMaster//Event Calendar 2.0//EN
METHOD:PUBLISH
X-PUBLISHED-TTL:P3D
REFRESH-INTERVAL:P3D
CALSCALE:GREGORIAN
BEGIN:VEVENT
DTSTART:20190322T233000Z
DTEND:20190323T023000Z
X-MICROSOFT-CDO-ALLDAYEVENT:FALSE
SUMMARY:Tom Chapin at the Minstrel
DESCRIPTION:Tom Chapin's music spans generations from the heady Greenwich Village days when he performed with his brothers Harry\, and Steve and dad Jim\, through to today. He serves up a tasty mix of story songs\, ballads\, comedic and political songs\, family music\, sing-alongs\, old-time folk classics and a favorite song or two of his late brother Harry's. With an agile finger style guitar\, gentle humor\, audience inclusiveness\, and a concern for the Earth and its resources\, Tom puts on a memorable show. Opener Dan Pelletier's soulful voice can at times be powerful and gritty\, or tender and emotive. He never fails to delight audiences with his wit and tenderness. His shows feature just the right touch of sarcasm tempered by warmth\, realistic idealism and a passion for life\, love and the pursuit of happiness. If Tom Lehrer\, Shel Silverstein\, Sting\, Joe Cocker and James Taylor all had a kid together\, it would be Dan. Wheelchair accessible\; free parking.
X-ALT-DESC;FMTTYPE=text/html:Tom Chapin&#39\;s music spans generations from the heady Greenwich Village days when he performed with his brothers Harry\, and Steve and dad Jim\, through to today. He serves up a tasty mix of story songs\, ballads\, comedic and political songs\, family music\, sing-alongs\, old-time folk classics and a favorite song or two of his late brother Harry&rsquo\;s. With an agile finger style guitar\, gentle humor\, audience inclusiveness\, and a concern for the Earth and its resources\, Tom puts on a memorable show. Opener Dan Pelletier&#39\;s soulful voice can at times be powerful and gritty\, or tender and emotive. He never fails to delight audiences with his wit and tenderness. His shows feature just the right touch of sarcasm tempered by warmth\, realistic idealism and a passion for life\, love and the pursuit of happiness. If Tom Lehrer\, Shel Silverstein\, Sting\, Joe Cocker and James Taylor all had a kid together\, it would be Dan. Wheelchair accessible\; free parking.
LOCATION:Morristown Unitarian Fellowship 21 Normandy Heights Road Morristown\, NJ 07960
UID:e.870.15298
SEQUENCE:3
DTSTAMP:20260420T041900Z
URL:https://business.suburbanchambers.org/events/details/tom-chapin-at-the-minstrel-03-22-2019-15298
END:VEVENT

END:VCALENDAR
