BEGIN:VCALENDAR
VERSION:2.0
PRODID:-//ChamberMaster//Event Calendar 2.0//EN
METHOD:PUBLISH
X-PUBLISHED-TTL:P3D
REFRESH-INTERVAL:P3D
CALSCALE:GREGORIAN
BEGIN:VEVENT
DTSTART:20190223T003000Z
DTEND:20190223T033000Z
X-MICROSOFT-CDO-ALLDAYEVENT:FALSE
SUMMARY:Todd Dennison at the Minstrel
DESCRIPTION:For the past few years\, Todd Dennison has been the go-to guy when it came to supporting his fellow musicians' performing careers. His prodigious guitar and vocal skills and instinctive musicality made him a valuable musical partner to any number of member performers. But he's also a skilled songwriter\, and it's time he had a show of his own at the Minstrel. So he and his various musical collaborators will make this a brilliant evening of music. Julie Parker Edelston opens.
X-ALT-DESC;FMTTYPE=text/html:For the past few years\, Todd Dennison has been the go-to guy when it came to supporting his fellow musicians&#39\; performing careers. His prodigious guitar and vocal skills and instinctive musicality made him a valuable musical partner to any number of member performers. But he&#39\;s also a skilled songwriter\, and it&#39\;s time he had a show of his own at the Minstrel. So he and his various musical collaborators will make this a brilliant evening of music. Julie Parker Edelston opens.
LOCATION:Morristown Unitarian Fellowship 21 Normandy Heights Road Morristown\, NJ 07960
UID:e.870.15209
SEQUENCE:3
DTSTAMP:20260420T110523Z
URL:https://business.suburbanchambers.org/events/details/todd-dennison-at-the-minstrel-15209
END:VEVENT

END:VCALENDAR
