BEGIN:VCALENDAR
VERSION:2.0
PRODID:-//ChamberMaster//Event Calendar 2.0//EN
METHOD:PUBLISH
X-PUBLISHED-TTL:P3D
REFRESH-INTERVAL:P3D
CALSCALE:GREGORIAN
BEGIN:VEVENT
DTSTART:20190321T163000Z
DTEND:20190321T171500Z
X-MICROSOFT-CDO-ALLDAYEVENT:FALSE
SUMMARY:Tips and Tricks of QuickBooks Online
DESCRIPTION:*BACK BY POPULAR DEMAND* Intuit does a great job of making QBO very accessible. They also position QBO as so easy "anyone can use it." Like most software solutions\, they are easy to use if you know what you are doing. Let us help you get acquainted with the software and also share some of our favorite shortcuts and features. WE WILL COVER: *Memorizing transactions *Automating reports *Multitasking *and more
X-ALT-DESC;FMTTYPE=text/html:*BACK BY POPULAR DEMAND* Intuit does a great job of making QBO very accessible. They also position QBO as so easy &quot\;anyone can use it.&quot\; Like most software solutions\, they are easy to use if you know what you are doing. Let us help you get acquainted with the software and also share some of our favorite shortcuts and features. WE WILL COVER: *Memorizing transactions *Automating reports *Multitasking *and more
LOCATION:C3Workplace via Zoom Webinar CLICK HERE TO REGISTER: https://zoom.us/webinar/register/WN_0EMA4uSnT4-e8VgB8lMaiA
UID:e.870.15327
SEQUENCE:3
DTSTAMP:20260420T041853Z
URL:https://business.suburbanchambers.org/events/details/tips-and-tricks-of-quickbooks-online-15327
END:VEVENT

END:VCALENDAR
