BEGIN:VCALENDAR
VERSION:2.0
PRODID:-//ChamberMaster//Event Calendar 2.0//EN
METHOD:PUBLISH
X-PUBLISHED-TTL:P3D
REFRESH-INTERVAL:P3D
CALSCALE:GREGORIAN
BEGIN:VEVENT
DTSTART;VALUE=DATE:20180423
DTEND;VALUE=DATE:20180424
TRANSP:TRANSPARENT
X-MICROSOFT-CDO-ALLDAYEVENT:TRUE
SUMMARY:Tickets for Kentucky Derby event hosted by The Connection
DESCRIPTION:Get your tickets now for The Connection's Kentucky Derby Party held at Canoe Brook Country Club on May 5th from 5:00-9:00pm\, to support their Scholarship Fund.  Come for cocktails and buffet dinner\, an auction\, raffles\, and much more!  Go to 501Auctions.com/ConnectionDerby to buy tickets and learn all about it\, or call 908-273-4242 ext 119 for details.
X-ALT-DESC;FMTTYPE=text/html:Get your tickets now for The Connection&rsquo\;s Kentucky Derby Party held at Canoe Brook Country Club on May 5th from 5:00-9:00pm\, to&nbsp\;support their Scholarship Fund. &nbsp\;Come for cocktails and buffet dinner\, an auction\, raffles\, and much more! &nbsp\;Go to 501Auctions.com/ConnectionDerby to buy tickets and learn all about it\, or call 908-273-4242 ext 119 for details.
LOCATION:Canoe Brook Country Club\, 1108 Morris Turnpike\, Summit\, NJ 07901
UID:e.870.11759
SEQUENCE:3
DTSTAMP:20260421T160759Z
URL:https://business.suburbanchambers.org/events/details/tickets-for-kentucky-derby-event-hosted-by-the-connection-04-23-2018-11759
END:VEVENT

END:VCALENDAR
