BEGIN:VCALENDAR
VERSION:2.0
PRODID:-//ChamberMaster//Event Calendar 2.0//EN
METHOD:PUBLISH
X-PUBLISHED-TTL:P3D
REFRESH-INTERVAL:P3D
CALSCALE:GREGORIAN
BEGIN:VEVENT
DTSTART:20181204T170000Z
DTEND:20181204T200000Z
X-MICROSOFT-CDO-ALLDAYEVENT:FALSE
SUMMARY:The Towne Club
DESCRIPTION:The Towne Club is a woman's social organization whose annual fundraiser benefits the rescue squads of Summit\, New Providence & Berkeley Heights. The Towne Club Meeting and luncheon will be held on Tuesday Dec. 4\, 2018. Entertainment will be provided by John Baragone. He will play the guitar and sing.
X-ALT-DESC;FMTTYPE=text/html:The Towne Club is a woman&#39\;s social organization whose annual fundraiser benefits the rescue squads of Summit\, New Providence &amp\; Berkeley Heights. The Towne Club Meeting and luncheon will be held on Tuesday Dec. 4\, 2018. Entertainment will be provided by John Baragone. He will play the guitar and sing.
LOCATION:Primavera 1080 Valley Rd. Stirling\, NJ
UID:e.870.14372
SEQUENCE:3
DTSTAMP:20260420T145325Z
URL:https://business.suburbanchambers.org/events/details/the-towne-club-12-04-2018-14372
END:VEVENT

END:VCALENDAR
