BEGIN:VCALENDAR
VERSION:2.0
PRODID:-//ChamberMaster//Event Calendar 2.0//EN
METHOD:PUBLISH
X-PUBLISHED-TTL:P3D
REFRESH-INTERVAL:P3D
CALSCALE:GREGORIAN
BEGIN:VEVENT
DTSTART:20181023T160000Z
DTEND:20181023T190000Z
X-MICROSOFT-CDO-ALLDAYEVENT:FALSE
SUMMARY:The Towne Club
DESCRIPTION:The Towne Club is a woman's organization whose annual fundraiser benefits the rescue squads of Summit\, New Providence & Berkeley Heights. The Towne Club Meeting & luncheon will be held on Tuesday\, October 23\, 2018. Entertainment will be provided by Michele Sweeney\, Dietitian who will speak on "Healthy Snacks and Desserts". New Members Welcome
X-ALT-DESC;FMTTYPE=text/html:The Towne Club is a woman&#39\;s organization whose annual fundraiser benefits the rescue squads of Summit\, New Providence &amp\; Berkeley Heights. The Towne Club Meeting &amp\; luncheon will be held on Tuesday\, October 23\, 2018. Entertainment will be provided by Michele Sweeney\, Dietitian who will speak on &quot\;Healthy Snacks and Desserts&quot\;. New Members Welcome
LOCATION:Water & Wine 141 Stirling Rd. Watchung\, NJ
UID:e.870.14371
SEQUENCE:3
DTSTAMP:20260421T011149Z
URL:https://business.suburbanchambers.org/events/details/the-towne-club-10-23-2018-14371
END:VEVENT

END:VCALENDAR
