BEGIN:VCALENDAR
VERSION:2.0
PRODID:-//ChamberMaster//Event Calendar 2.0//EN
METHOD:PUBLISH
X-PUBLISHED-TTL:P3D
REFRESH-INTERVAL:P3D
CALSCALE:GREGORIAN
BEGIN:VEVENT
DTSTART:20180925T160000Z
DTEND:20180925T190000Z
X-MICROSOFT-CDO-ALLDAYEVENT:FALSE
SUMMARY:The Towne Club
DESCRIPTION:The Towne Club is a woman's social organization whose annual fundraiser benefits the rescue squads of Summit\, New Providence & Berkeley Heights. The Towne Club Meeting & luncheon will be held on Tuesday Sept. 25\, 2018. Entertainment will be provided by Peter Lieberman. He plays the keyboard and sings. King of the Keys\, 1 man band.
X-ALT-DESC;FMTTYPE=text/html:The Towne Club is a woman&#39\;s social organization whose annual fundraiser benefits the rescue squads of Summit\, New Providence &amp\; Berkeley Heights. The Towne Club Meeting &amp\; luncheon will be held on Tuesday Sept. 25\, 2018. Entertainment will be provided by Peter Lieberman. He plays the keyboard and sings. King of the Keys\, 1 man band.
LOCATION:Prezzo Italian Restaurant 50 Mt. Bethel Rd. Warren\, NJ
UID:e.870.14370
SEQUENCE:3
DTSTAMP:20260421T041608Z
URL:https://business.suburbanchambers.org/events/details/the-towne-club-09-25-2018-14370
END:VEVENT

END:VCALENDAR
