BEGIN:VCALENDAR
VERSION:2.0
PRODID:-//ChamberMaster//Event Calendar 2.0//EN
METHOD:PUBLISH
X-PUBLISHED-TTL:P3D
REFRESH-INTERVAL:P3D
CALSCALE:GREGORIAN
BEGIN:VEVENT
DTSTART:20181115T150000Z
DTEND:20181116T010000Z
X-MICROSOFT-CDO-ALLDAYEVENT:FALSE
SUMMARY:The Summit Historical Society's Holiday Boutique
DESCRIPTION:To get a head start on your holiday shopping\, this year's Summit Historical Society's annual Holiday Boutique will take place before Thanksgiving on Thursday\, November 15th\, from 10 AM to 4 PM AND Thursday evening from 6 PM to 8 PM for our popular "Carter House by Candlelight" Sip and Shop. This year's Boutique will feature many new vendors\, in addition to our best-selling previous vendors who will be selling a wide variety of items suitable for Thanksgiving\, Hanukkah and Christmas Holiday shoppers.  Please drop by and enjoy the Boutique. It will be a delightful way to enjoy shopping for Thanksgiving\, Hanukkah and Christmas.
X-ALT-DESC;FMTTYPE=text/html:To get a head start on your holiday shopping\, this year&rsquo\;s Summit Historical Society&rsquo\;s annual Holiday Boutique will take place before Thanksgiving on Thursday\, November 15th\, from 10 AM to 4 PM AND Thursday evening from 6 PM to 8 PM for our popular &ldquo\;Carter House by Candlelight&rdquo\; Sip and Shop. This year&rsquo\;s Boutique will feature many new vendors\, in addition to our best-selling previous vendors who will be selling a wide variety of items suitable for Thanksgiving\, Hanukkah and Christmas Holiday shoppers. &nbsp\;Please drop by and enjoy the Boutique. It will be a delightful way to enjoy shopping for Thanksgiving\, Hanukkah and Christmas.&nbsp\;
LOCATION:The Carter House\, The Summit Historical Society 90 Butler Parkway Summit\, NJ
UID:e.870.14564
SEQUENCE:3
DTSTAMP:20260420T184549Z
URL:https://business.suburbanchambers.org/events/details/the-summit-historical-society-s-holiday-boutique-14564
END:VEVENT

END:VCALENDAR
