BEGIN:VCALENDAR
VERSION:2.0
PRODID:-//ChamberMaster//Event Calendar 2.0//EN
METHOD:PUBLISH
X-PUBLISHED-TTL:P3D
REFRESH-INTERVAL:P3D
CALSCALE:GREGORIAN
BEGIN:VEVENT
DTSTART:20181018T230000Z
DTEND:20181019T003000Z
X-MICROSOFT-CDO-ALLDAYEVENT:FALSE
SUMMARY:The Scoop on the Ketogenic Diet and Intermitten Fasting - Infomation Seminar
DESCRIPTION:Prior to embarking on any diet or lifestyle change\, it is important to educate yourself on the good\, the bad and the ugly associated with the new lifestyle. Due to a large number of questions we have recieved on the topics of intermittent fasting and the ketogentic diet\, as well as the overwhleming amount of information on the internet\, we have decided to run a 90-minute info session on the topics. We will be providing some light refreshments and a comfortable environment for informative discussion. We would love to have you! (Space is limited\, please register using the eventbrite link or by emailing Katie!)
X-ALT-DESC;FMTTYPE=text/html:Prior to embarking on any diet or lifestyle change\, it is important to educate yourself on the good\, the bad and the ugly associated with the new lifestyle. Due to a large number of questions we have recieved on the topics of intermittent fasting and the ketogentic diet\, as well as the overwhleming amount of information on the internet\, we have decided to run a 90-minute info session on the topics. We will be providing some light refreshments and a comfortable environment for informative discussion. We would love to have you! (Space is limited\, please register using the eventbrite link or by emailing Katie!)
LOCATION:The Body Shop Studio 312 Springfield Ave. NJ\, 07920
UID:e.870.14533
SEQUENCE:3
DTSTAMP:20260420T221157Z
URL:https://business.suburbanchambers.org/events/details/the-scoop-on-the-ketogenic-diet-and-intermitten-fasting-infomation-seminar-14533
END:VEVENT

END:VCALENDAR
